BEGIN:VCALENDAR
VERSION:2.0
PRODID:-//NOPI - ECPv6.15.20//NONSGML v1.0//EN
CALSCALE:GREGORIAN
METHOD:PUBLISH
X-WR-CALNAME:NOPI
X-ORIGINAL-URL:https://nopi.com
X-WR-CALDESC:Events for NOPI
REFRESH-INTERVAL;VALUE=DURATION:PT1H
X-Robots-Tag:noindex
X-PUBLISHED-TTL:PT1H
BEGIN:VTIMEZONE
TZID:America/New_York
BEGIN:DAYLIGHT
TZOFFSETFROM:-0500
TZOFFSETTO:-0400
TZNAME:EDT
DTSTART:20250309T070000
END:DAYLIGHT
BEGIN:STANDARD
TZOFFSETFROM:-0400
TZOFFSETTO:-0500
TZNAME:EST
DTSTART:20251102T060000
END:STANDARD
BEGIN:DAYLIGHT
TZOFFSETFROM:-0500
TZOFFSETTO:-0400
TZNAME:EDT
DTSTART:20260308T070000
END:DAYLIGHT
BEGIN:STANDARD
TZOFFSETFROM:-0400
TZOFFSETTO:-0500
TZNAME:EST
DTSTART:20261101T060000
END:STANDARD
BEGIN:DAYLIGHT
TZOFFSETFROM:-0500
TZOFFSETTO:-0400
TZNAME:EDT
DTSTART:20270314T070000
END:DAYLIGHT
BEGIN:STANDARD
TZOFFSETFROM:-0400
TZOFFSETTO:-0500
TZNAME:EST
DTSTART:20271107T060000
END:STANDARD
END:VTIMEZONE
BEGIN:VEVENT
DTSTART;TZID=America/New_York:20260912T080000
DTEND;TZID=America/New_York:20260913T170000
DTSTAMP:20260424T232437
CREATED:20251127T045934Z
LAST-MODIFIED:20260313T114328Z
UID:10000005-1789200000-1789318800@nopi.com
SUMMARY:NOPI Nationals Motorsports Supershow at EchoPark Speedway 2026
DESCRIPTION:“`html \n\n\n\n \n\n\n\n\n\nSeptember 12–13\, 2026 • EchoPark Speedway\, Hampton\, GA \nNOPI Nationals Motorsports Super Show\nThe legendary NOPI Nationals Super Show returns with two days of custom cars\, competitions\, drifting\, music\, and motorsports excitement.  \n\n\nTickets\nBuy tickets and passes on Gearhead Events (official ticket provider): \n\n\n  \n\n\n\n Buy Tickets on Gearhead Events \n View All Passes & Pricing \n\nLooking to register a show car or purchase VIP? Use the same official Gearhead link above. \n\n\n\n\n\nQuick Links: Highlights Tickets & Passes Motorsports Entries Schedule Track Rules Sponsors & Vendors \n\n\n\n\nEvent Highlights\n\n\n\nDrifting Competition – 32 elite drifters\, $10\,000 purse (full field contingent).\nHydraulic Competition – Hosted by Hopaholics Hydraulics (multi-class payouts).\nAutocross – Run by Grip Autocross (cash prizes per class).\nBurnout Competition – Presented by Burn Out Wars.\nSound Competition – Featuring Bass Wars.\n\n\n\n\nCar Show – Compete for trophies + cash prizes.\nJDM Show Car Section – Rare Japanese imports.\nCar Model Build-Off – For young builders.\nMusic Stage – DJs + live sets all weekend.\nVIP Lounge – Meet past NDRA racers & mentors.\n\n\n\n\n\nNeed tickets? Purchase securely via the official ticket provider: \n\n Buy Tickets on Gearhead Events \n\n\n\n\n\nTickets & Passes\n\n\n\nGeneral Admission\n\n$40/day • $70/weekend\nKids 12 & under free\nIncludes paddock access\n\n\n Buy GA Tickets \n\n\n\n\n\nVIP Pass — $250 (per person)\n\nIncludes GA admission\nVIP Lounge (complimentary food & beverages)\nReserved parking\n\n\n Buy VIP \n\n\n\n\n\nShow Car Entry\n$100 (includes 2 GA passes) \n\n Register Show Car \n Car Show Classes & Winners \n\n\n\n\n\n\n\nMotorsports Entries\n\n\n\nDrifting Competition\n\n$350 entry (includes tech card)\nEvening event — lights required\nFun runs (non-competitive): $150\n\n\n Drift Registration (via Tickets Link) \n\nIf a dedicated drift registration link is added later\, swap it into the button above. \n\n\n\n\nOther Competitions\n\nHydraulics – Hosted by Hopaholics Hydraulics\nAutocross – Run by Grip Autocross\nBurnout – Presented by Burn Out Wars\nSound – Featuring Bass Wars\n\n\n Purchase Entry / Tickets \n\n\n\n\n\n\n\nSchedule of Events\nSchedule details will appear here. Check back for updates as event programming is finalized. \n\n\n\nTrack Safety & Event Rules\n\n\nNo overnight stays at the track — 24-hour security will be onsite.\nNo coolers larger than 15 inches.\nNo grills.\nNo motorized vehicles (attendee-operated).\nNo bikes.\nNo pets.\n\nPlease follow staff instructions and posted signage at all times. These rules help keep the paddock\, pits\, and spectator areas safe for everyone. \n\n\n\n\nSponsorships & Vendors\nShowcase your brand at NOPI Nationals in front of engaged enthusiasts\, racers\, and builders. \n\nVendor Setup Access: Friday\, September 11 from 8:00 AM–8:00 PM. Please use the designated vendor gate for check-in. \n\n\n Sponsorship & Vendor Info \n\n\n\n\n\nBuy Tickets\nOfficial ticket provider: Gearhead Events \n\n Buy Tickets on Gearhead Events \n Back to Top \n\n\n\n\n\n“`
URL:https://nopi.com/event/nopi-nationals-motorsports-supershow-at-echopark-speedway-2026/
LOCATION:Atlanta Motor Speedway\, 1500 Tara Pl\, Hampton\, GA\, 30228\, United States
CATEGORIES:car show,drift race
ATTACH;FMTTYPE=image/jpeg:https://nopi.com/wp-content/uploads/2026/02/5A-ATLANTA-V4.jpg
ORGANIZER;CN="Sam Mahdavi":MAILTO:info@nopi.com
END:VEVENT
END:VCALENDAR