BEGIN:VCALENDAR
VERSION:2.0
PRODID:-//NOPI - ECPv6.15.20//NONSGML v1.0//EN
CALSCALE:GREGORIAN
METHOD:PUBLISH
X-WR-CALNAME:NOPI
X-ORIGINAL-URL:https://nopi.com
X-WR-CALDESC:Events for NOPI
REFRESH-INTERVAL;VALUE=DURATION:PT1H
X-Robots-Tag:noindex
X-PUBLISHED-TTL:PT1H
BEGIN:VTIMEZONE
TZID:America/New_York
BEGIN:DAYLIGHT
TZOFFSETFROM:-0500
TZOFFSETTO:-0400
TZNAME:EDT
DTSTART:20240310T070000
END:DAYLIGHT
BEGIN:STANDARD
TZOFFSETFROM:-0400
TZOFFSETTO:-0500
TZNAME:EST
DTSTART:20241103T060000
END:STANDARD
BEGIN:DAYLIGHT
TZOFFSETFROM:-0500
TZOFFSETTO:-0400
TZNAME:EDT
DTSTART:20250309T070000
END:DAYLIGHT
BEGIN:STANDARD
TZOFFSETFROM:-0400
TZOFFSETTO:-0500
TZNAME:EST
DTSTART:20251102T060000
END:STANDARD
BEGIN:DAYLIGHT
TZOFFSETFROM:-0500
TZOFFSETTO:-0400
TZNAME:EDT
DTSTART:20260308T070000
END:DAYLIGHT
BEGIN:STANDARD
TZOFFSETFROM:-0400
TZOFFSETTO:-0500
TZNAME:EST
DTSTART:20261101T060000
END:STANDARD
BEGIN:DAYLIGHT
TZOFFSETFROM:-0500
TZOFFSETTO:-0400
TZNAME:EDT
DTSTART:20270314T070000
END:DAYLIGHT
BEGIN:STANDARD
TZOFFSETFROM:-0400
TZOFFSETTO:-0500
TZNAME:EST
DTSTART:20271107T060000
END:STANDARD
END:VTIMEZONE
BEGIN:VEVENT
DTSTART;TZID=America/New_York:20260424T080000
DTEND;TZID=America/New_York:20260426T170000
DTSTAMP:20260424T214610
CREATED:20260111T143500Z
LAST-MODIFIED:20260412T131348Z
UID:10000007-1777017600-1777222800@nopi.com
SUMMARY:NOPI NDRA Drag Race at Virginia Motorsports Park 2026
DESCRIPTION:NOPI Regional Show at Virginia Motorsports Park (VMP)\nApril 24–26\, 2026 • Virginia Motorsports Park \n \n\nTickets\nPurchase tickets online through Gearhead Events: \n\nBuy Tickets on Gearhead Events\n \nPrefer to review event details first? Use the quick links below\, then come back to this ticket button anytime. \n\n\nQuick Links:\nHero Image Overlays\nEvent Highlights\nStunt Show & Ride-Alongs\nSchedule\nGeneral Admission\nShow Car Entry\nDrag Racing \n\n \nHero Image Overlays\n\nCreate your own Virginia event hero image. \nRacers can download the official PNG overlays below and add their own car photos to create custom hero images for the Virginia event. \n\n\n\nDownload VMP Event Overlays\n\n\n\n\n\n\nGet ready for the NOPI Nationals Super Show at Virginia Motorsports Park (VMP)—an action-packed weekend celebrating car culture with high-performance builds\, nonstop motorsports action\, and top-tier competition. \n \nEvent Highlights\n\nDrag Racing – High-speed action with huge payouts across multiple classes.\nCar Show – Show off your ride and compete for trophies and cash prizes.\nDrift Car Event – Elite drifters battling for cash prizes.\nHollywood Stunt Show – Live stunt driving performance by Hollywood legend Sammy Maloof\, plus ride-along experiences available.\nDrift Car Ride-Alongs – Buckle in and feel what it’s like to ride with a professional drift driver.\n\n \n\nReady to lock in your spot? \n\nBuy Tickets\n \n\n\n \nHollywood Stunt Show – Sammy Maloof\nNOPI is proud to welcome Hollywood stuntman and racing legend Sammy Maloof to VMP! Known for his stunt work in blockbusters like Fast and Furious and Mission Impossible\, Sammy will be putting on a live stunt driving show you won’t want to miss — and for the first time at a NOPI event\, you can ride along with him. \n\nStunt Show Ride-Along with Sammy Maloof \n\nExperience a real Hollywood stunt ride firsthand\nLimited tickets available — first come\, first served\n$25 per person • Purchase on-site at the event\n\nTickets are available at the event only. Don’t wait — spots fill fast! \n\n\nDrift Car Ride-Alongs \n\nRide shotgun with a professional drift driver on the track\nLimited tickets available — first come\, first served\n$50 per person • Purchase on-site at the event\n\nTickets are available at the event only. Don’t wait — spots fill fast! \n\n\n \nEvent Schedule\nFriday\n\nGates Open: 12 noon\nTech Inspection: 12 noon – 9:00pm\nDrifting: 1:00pm – 9:00pm\nTesting: 5:00pm – 10:00pm\nGates Close: 10:00pm\n\nSaturday\n\nGates Open (Exhibitors/Contestants): 9:00am\nCar Show Registration: All Day\nDrifting Tech: 9:00am\nDrifting Drivers Meeting: 9:45am\nStunt Show – Sammy Maloof: TBD\nStunt Ride-Along Tickets ($25): Available on-site\nCar Show Judging: 1:00pm – 5:00pm\nDrifting: 11:00am – 8:00pm\nDrift Ride-Along Tickets ($50): Available on-site\nDrag Race Round 1 Qualifying (All Classes): 11:00am\nDrag Race Round 2 Qualifying (All Classes): 3:00pm\nDrag Race Round 3 Qualifying (All Classes): 7:00pm\n\nSunday\n\nGates Open: 9:00am\nDrifting: 10:00am – 6:00pm\nCar Show Registration: 10:00am – 4:00pm\nStunt Show – Sammy Maloof: TBD\nStunt Ride-Along Tickets ($25): Available on-site\nDrift Ride-Along Tickets ($50): Available on-site\nDrag Race Round 1 Eliminations: 10:00am\nCar Show Judging: 12 noon – 4:00pm\nCar Show Awards: 5:00pm\n\n\n \nGeneral Admission\n\n$35 – 1-Day Pass\n$60 – 2-Day Pass\nIncludes paddock area access\nChildren 12 and under enter free!\n\n \n\nAdd a Ride-Along to Your Visit \n\nStunt Show Ride-Along with Sammy Maloof – $25\nDrift Car Ride-Along – $50\n\n\n\n\nBuy General Admission Tickets\n \n\n \nCar Show\nClick Here\nfor details on car show classes\, winners\, and more. \nShow Car Entry – $80 Preregister Online\n\nIncludes general admission for Saturday and Sunday\nAccess to paddock area\nCompete for cash prizes and trophies!\n\n\n \nDrag Racing\nClick Here\nfor drag racing class rules and restrictions. \n**Full purse payouts contingent on full field for each class** \n \n\nDrag Racing at a Glance \n\nBracket: $100 entry • $2\,000 to win\nAll Steel All Glass: $200 entry • $5\,000 to win\nIndex (9.5 / 10.5 / 11.5): $200 entry • payouts per class\nHeads-Up (XFWD / XAWD vs XRWD / XWorld): $300 entry • big payouts\n\n\n \nEntry Fees (Includes Tech Card)\n\nBracket Drag Racing: $100\nAll Steel All Glass: $200\nIndex Drag Racing (9.5 / 10.5 / 11.5): $200\nHeads-Up Drag Racing Classes: $300\n\n \nPayouts\nBracket Drag Racing\n\nRestrictions: None\nWinner: $2\,000\n\nAll Steel All Glass\n\nWinner: $5\,000\n\nIndex Drag Racing (Per Class: 9.5 / 10.5 / 11.5)\n\n\n\nFinish\nPayout (Per Class)\n\n\n\n\nWinner\n$2\,500\n\n\nRunner-Up\n$500\n\n\nSemifinalists\n$200\n\n\n\nHeads-Up Drag Racing Classes\n\nXFWD\n\nWinner: $10\,000\nRunner-Up: $3\,000\n\n\n\nXAWD vs XRWD\n\nWinner: $5\,000\nRunner-Up: $1\,500\n\n\n\nXWorld\n\nWinner: $5\,000\nRunner-Up: $1\,500\n\n\n\n \nDon’t Miss It\nDon’t miss out on this legendary automotive event. Whether you’re a racer\, a show car competitor\, a fan of high-speed action\, or looking to ride along with Hollywood stuntman Sammy Maloof\, the NOPI Nationals Super Show at VMP is a weekend you won’t want to miss. \n\nBuy Tickets\nTickets are available online via Gearhead Events: \n\nBuy Tickets on Gearhead Events\n \n\nFollow us for updates and ticket information!
URL:https://nopi.com/event/nopi-drag-race-at-virginia-motorsports-park-2026/
LOCATION:Virginia Motorsports Park\, 8018 Boydton Plank Rd\, Petersburg\, Virginia\, 23803
CATEGORIES:car show,drag race,drift race
ATTACH;FMTTYPE=image/jpeg:https://nopi.com/wp-content/uploads/2026/02/1-VIRGINIA-V4.jpg
ORGANIZER;CN="Sam Mahdavi":MAILTO:info@nopi.com
END:VEVENT
BEGIN:VEVENT
DTSTART;TZID=America/New_York:20250913T080000
DTEND;TZID=America/New_York:20250914T170000
DTSTAMP:20260424T214610
CREATED:20241031T212831Z
LAST-MODIFIED:20250917T104430Z
UID:10000002-1757750400-1757869200@nopi.com
SUMMARY:NOPI Nationals Motorsports Supershow at EchoPark Speedway 2025
DESCRIPTION:September 13–14\, 2025 • EchoPark Speedway\, Hampton\, GA \n🚗 NOPI Nationals Super Show 2025\nThe legendary NOPI Nationals Super Show returns with two days of custom cars\, competitions\, drifting\, music\, and motorsports excitement. \n\n\n  \n\n\n\nCar Show Winners\nBuy Tickets\nCar Show Classes & Winners\nSponsors & Vendors\n\n\n\n\n\n\nQuick Links\n\nEvent Highlights\nTickets & Passes\nMotorsports Entries — Drifting • Autocross • Hydraulics • JEEPs\nSchedule of Events\nTrack Safety & Event Rules\nHotel Partners\nNOPI Tour 2025\nSponsorships & Vendors\n\n\n\n\n🎉 Event Highlights\n\n\n\nDrifting Competition – 32 elite drifters\, $10\,000 purse (full field contingent).\nHydraulic Competition – Hosted by Hopaholics Hydraulics (multi-class payouts).\nAutocross – Run by Grip Autocross (cash prizes per class).\nBurnout Competition – Presented by Burn Out Wars.\nSound Competition – Featuring Bass Wars.\n\n\n\n\nCar Show – Compete for trophies + cash prizes.\nJDM Show Car Section – Rare Japanese imports.\nCar Model Build-Off – For young builders.\nMusic Stage – DJs + live sets all weekend.\nVIP Lounge – Meet past NDRA racers & mentors.\n\n\n\n\n\n\n🎟️ Tickets & Passes\n\n\n\nGeneral Admission\n\n$25/day | $50/weekend (Pre-purchase online)\n$30/day | $60/weekend (Day of show)\nKids 12 & under free\nIncludes paddock access\n\n\nBuy GA Tickets\n\n\n\n\n\nVIP Pass — $200 (per person)\n\nIncludes GA admission\nVIP Lounge (complimentary food & beverages)\nReserved parking\n\n\nBuy VIP\n\n\n\n\n\nShow Car Entry\n$70 prereg | $85 day-of (includes 2 GA passes) \n\nRegister Show Car\n\n\n\n\n\n\n\n🏁 Motorsports Entries\n\n\n\n\nDrifting Competition\n\n$350 entry (includes tech card)\nEvening event — lights required\nFun runs (non-competitive): $150\n$10\,000 Purse (full field contingent): $7\,000 Winner • $2\,000 Runner-up • $1\,000 to each Semifinalist\n\n\n\nDrifter Perk: All registered drifters receive a promo code for 25% off ZEKNOVA tires plus free shipping. Your code will be provided after you sign up. \n\nShop ZEKNOVA Tires\n\n\n\n\nDrift Event Schedule & Information for Drivers\nFriday\n\n11:00 AM–3:00 PM: Drift rig/trailer/drift car optional overnight drop-off.\n\nSaturday\n\n8:00 AM: Gate opens for drift car/rig/trailer parking.\n9:00 AM: Drivers meeting (promptly).\n10:00 AM: Track competition begins (continues until completed).\nFun runs & ride-alongs will be scheduled to accommodate competition and cool-downs.\nAwards presented after competition is completed.\n(30-minute break)\nAfter competition: Fun runs\, demos\, and ride-alongs continue until 8:00 PM (unless extended).\n\nSunday\n\n10:00 AM–5:00 PM: Fun runs (end at 5:00 PM sharp).\n\nOn site tire mount/dismounting services will be available for drifters! \n\n\n\nDrift Registration\n\n\n\n\n\n\nAutocross (Grip Autocross)\n\nPer class prizes: $500 Winner • $250 Runner-up • $100 Semifinalists\n\n  \n\nRegister with GRIP\n\n\n\n\n\n\nHydraulics — Hopaholics Payouts (1st / 2nd / 3rd)\n\nStreet: $400 / $200 / $100\nSuper Street: $500 / $300 / $100\nRadical: $500 / $300 / $100\nDancer: $500 / $300 / $100\nBed Dancer: $500 / $300 / $100\nTruck: $400 / $200 / $100\n\n\n\n\nJEEPs — Mild and Wild Classes (1st / 2nd / 3rd)\n\nUnder Construction: $300 / $200 / $100\nBest Overlander: $300 / $200 / $100\nBest Display: $300 / $200 / $100\nBest of Show: $300 / $200 / $100\nBest of Show Jeep: $300 / $200 / $100\n\n\n\n\n\n📅 Schedule of Events\n\nSaturday\, Sept 13\n\n9am–5pm: Autocross\, Drifting\, Sound Competition\n11am: Burnout Competition\n1–2pm: Hydraulics (HOP)\n7pm: Burnout + Music sets\n8–9pm: Glow Off\n\nSunday\, Sept 14\n\n9am–4pm: Autocross\, Drifting\, Sound Competition\n10am: Burnout Competition\n12–1pm: Hydraulics (HOP)\nLive music throughout both days (Walt\, FF Talk\, DJ\, RYE\, NC Talk\, Electric Soul)\n\nEchoPark Speedway Map\n\n\n\n\n🛡️ Track Safety & Event Rules\n\n\nNo overnight stays at the track — 24-hour security will be onsite\nNo coolers larger than 15 inches\nNo grills\nNo motorized vehicles (attendee-operated)\nNo bikes\nNo pets\n\nPlease follow staff instructions and posted signage at all times. These rules help us keep the paddock\, pits\, and spectator areas safe for everyone. \n\n\n\n\n🏨 Hotel Partners (Group Rates)\nMention “NOPI CAR GROUP” or use the links below. \n\n\n\nTru by Hilton\nGroup Code: 905 • Call 1-800-HILTONS and mention NOPI CAR GROUP or 905. \n\nBook Tru by Hilton\n\n\n\n\n\nBest Western\n\nBook Best Western\n\n\n\n\n\nHilton Garden Inn\n\nBook Hilton Garden Inn\n\n\n\n\n\n\n\n🗺️ NOPI Tour 2025\n\n\n  \n\n\nTwo epic legs. One legendary meet-up. The NOPI Tour 2025 features two routes converging at NOPI Nationals at EchoPark Speedway on September 13–14\, 2025. Tour with fellow enthusiasts\, hit curated stops\, and roll into AMS in style. \n\nView Tour Details & Schedule\n\n\n\n\n\n\n🤝 Sponsorships & Vendors\nShowcase your brand at NOPI Nationals in front of engaged enthusiasts\, racers\, and builders. \n\n\nVendor Setup Access: Friday\, September 12 from 8:00 AM–8:00 PM. Please use the designated vendor gate for check-in. \n\n\n\nSponsorship & Vendor Info\n\nBack to top ↑ \n\n\n\n 
URL:https://nopi.com/event/nopi-nationals-mega-show-at-atlanta-motor-speedway/
LOCATION:Atlanta Motor Speedway\, 1500 Tara Pl\, Hampton\, GA\, 30228\, United States
CATEGORIES:car show
ATTACH;FMTTYPE=image/png:https://nopi.com/wp-content/uploads/2024/10/NOPI-sept-event-banner.png
ORGANIZER;CN="Sam Mahdavi":MAILTO:info@nopi.com
END:VEVENT
BEGIN:VEVENT
DTSTART;TZID=America/New_York:20250815T080000
DTEND;TZID=America/New_York:20250817T170000
DTSTAMP:20260424T214610
CREATED:20250222T133059Z
LAST-MODIFIED:20250816T173739Z
UID:10000003-1755244800-1755450000@nopi.com
SUMMARY:NOPI Nationals at Maryland International Raceway 2025
DESCRIPTION:NOPI Nationals Super Show Returns to Maryland International Raceway – August 15-17\, 2025!\nGet ready for the NOPI Nationals Super Show at Maryland International Raceway (MIR)\, an action-packed weekend celebrating car culture with high-performance vehicles\, thrilling competitions\, and top-tier entertainment. This highly anticipated event promises an unforgettable experience\, blending high-octane motorsports with the best of automotive culture! \nEvent Highlights:\n\nDrag Racing – High-speed action featuring some of the best drag racers competing for huge payouts!\nCar Show – Show off your ride and compete for trophies and cash prizes!\nDrift Car Event – Featuring elite drifters battling for cash prizes!\n\nGet your tickets at TheFOAT! \n \n  \n\nEvent Details:\nFRIDAY\n\nGates Open: 12noon\nTech Inspection: 12noon-9pm\nDrifting: 1pm-9pm\nTesting: 5pm – 10pm\nGates Close: 10pm\n\nSATURDAY\n\nGates Open for Exhibitors/Contestants: 9am\nShow Registration: All Day\nDrifting Tech: 9am\nDrifting Drivers Meeting: 9:45am\nShow Judging: 1pm – 5pm\nDrifting: 11am – 8pm\nRound 1 Qualifying – All Classes: 11am\nRound 2 Qualifying – All Classes: 3pm\nRound 3 Qualifying – All Classes: 7pm\n\nSUNDAY\n\nGates Open: 9am\nDrifting: 9am – 6pm\nShow Registration: 9am -4pm\nRound 1 Eliminations: 10am\nShow Judging: 12noon – 4pm\nShow Awards: 5:00pm\n\n  \n\n\n\nGeneral Admission\n\n$40 – 1-Day Pass\n$70 – 2-Day Pass\n$90 – 3-Day Pass\nIncludes paddock area access\nChildren 12 and under enter free!\n\n\n\n\nClick Here for details on car show classes\, winners\, and more.\nShow Car Entry – $90 Preregister Online ($100 Day of Show)\n\nIncludes general admission for Saturday and Sunday\nAccess to paddock area\nCompete for cash prizes and trophies!\n\n  \n\n\n\nClick Here for drag racing class rules and restrictions\nIndex Drag Racing – $200 Entry (Includes Tech Card)\nIndex 9.5\, 10.5 & 11.5 Drag Racers\n\n$2\,500 – Winner (per class)\n$500 – Runner-up (per class)\n$200 – Semifinalists (per class)\n\nDrag Race Competitions – $300 Entry (Includes Tech Card)\nXFWD Drag Racers\n\n$10\,000 – Winner\n$2\,500 – Runner-up\n$500 – Semifinalists\n\nXAWD Drag Racers\n\n$5\,000 – Winner\n$1\,500 – Runner-up\n$500 – Semifinalists\n\nFast 16 Drag Racers\n\n$10\,000 – Winner\n$2\,500 – Runner-up\n$500 – Semifinalists\n\nXWorld Drag Racers\n\n$5\,000 – Winner\n$1\,500 – Runner-up\n$500 – Semifinalists\n\nStreet Outlaws Class\n\n$5\,000 – Winner\n$1\,500 – Runner-up\n$500 – Semifinalists\n\nNOPI Chic Drag Racers – $200 Entry (Includes Tech Card)\n\n$2\,500 – Winner\n$500 – Runner-up\n\nBracket Drag Racers – $100 Entry (Includes Tech Card)\nFriday Testing – $150 Entry\n  \n  \n\n\n\nDon’t miss out on this legendary automotive event! Whether you’re a racer\, a show car competitor\, or a fan of high-speed action\, the NOPI Nationals Super Show at MIR is an event you won’t want to miss! \nFollow us for updates and ticket information! \n 
URL:https://nopi.com/event/nopi-nationals-at-maryland-international-raceway/
LOCATION:Maryland International Raceway\, 27861 Budds Creek Rd\, Mechanicsville\, MD\, 20659\, United States
CATEGORIES:car show,drag race
ATTACH;FMTTYPE=image/png:https://nopi.com/wp-content/uploads/2025/02/NOPI-aug-event-banner.png
ORGANIZER;CN="Sam Mahdavi":MAILTO:info@nopi.com
END:VEVENT
BEGIN:VEVENT
DTSTART;TZID=America/New_York:20250215T080000
DTEND;TZID=America/New_York:20250215T170000
DTSTAMP:20260424T214610
CREATED:20241031T162742Z
LAST-MODIFIED:20250212T145255Z
UID:10000001-1739606400-1739638800@nopi.com
SUMMARY:NOPI Nationals 2025 Regional Show at Lanier Raceway
DESCRIPTION:NOPI Nationals are back in full throttle\, kicking off with a regional event at Lanier Raceway on February 15\, 2025. We are seeking 350 of the finest cars\, bikes\, lowriders\, trucks\, Jeeps\, exotics\, and classic muscle cars to join in on the celebration. The event will set the stage for the main event—the NOPI Nationals Supershow in September at the Atlanta Motor Speedway.  Please Contact Us for additional questions! \n\nDrifting Competition: Showcasing 32 of the most talented drifters competing for cash prizes\nHydraulic Competition: Witness the return of thrilling hydraulic car action\nMusic Stage: Enjoy music and live entertainment\nVIP Lounge: Mingle with past NDRA racers and current industry mentors\nJDM Show Car Section: A special showcase of JDM vehicles\nCar Model Build-Off: Young enthusiasts can participate in a build-off competition\nCar Show: Competitors will compete for cash and prizes\n\nThe NOPI Nationals 2025 promises to be an unforgettable experience\, blending high-octane entertainment with car culture at its finest! \nClick HERE for details on car show classes\, winners\, and more details. \n  \nGeneral Admission $50 (Per Person)\n\nAll-inclusive (Except for VIP lounge)\nPaddock area access\nAll taxes and fees included\nChildren 12 and under are free\n$5 of each entry fee will go into a 50/50 Raffle where one lucky person will walk away with a big check and the other half will go to the Georgia Sheriff’s Association (where they take in children who have been left behind and give them a home and education through college if they desire\, or tech school).  Check out the Georgia Sheriffs’ Youth website for more information.\n\n  \nVIP Pass $100\n\nOne VIP admission entry (All-inclusive)\nEntry to the VIP lounge\nMeet and Greet with industry leaders NOPI Official Press Release\nIncludes food and beverages\nNOPI Nationals swag bag\nHeated indoor area\n\n  \nShow Car Entry $100\n\nIncludes two general admission entries\nAll-inclusive (Except VIP Lounge)\nPaddock area included\n\nTop winners get cash prizes and trophies!\n  \nDrifters $200 (Includes Tech Card)\n\n32 race driver field\nMust have lights on the vehicles as we will be doing the drifting in the evening hours\nYou will need to pass tech inspection to race\n\n$5\,000 purse for the top three winners!\n\n$3\,500 for 1st place\n$1\,000 for 2nd place\n$500 for 3rd place\n\nClick HERE for drift event participation and rules
URL:https://nopi.com/event/nopi-nationals-2025-invitational-at-lanier-raceway/
LOCATION:Lanier Raceway\, 5301 Winder Hwy\, Braselton\, GA\, 30517\, United States
CATEGORIES:car show
ATTACH;FMTTYPE=image/jpeg:https://nopi.com/wp-content/uploads/2024/10/IMG_0428.jpg
ORGANIZER;CN="Sam Mahdavi":MAILTO:info@nopi.com
END:VEVENT
END:VCALENDAR