BEGIN:VCALENDAR
VERSION:2.0
PRODID:-//NOPI - ECPv6.15.20//NONSGML v1.0//EN
CALSCALE:GREGORIAN
METHOD:PUBLISH
X-ORIGINAL-URL:https://nopi.com
X-WR-CALDESC:Events for NOPI
REFRESH-INTERVAL;VALUE=DURATION:PT1H
X-Robots-Tag:noindex
X-PUBLISHED-TTL:PT1H
BEGIN:VTIMEZONE
TZID:America/New_York
BEGIN:DAYLIGHT
TZOFFSETFROM:-0500
TZOFFSETTO:-0400
TZNAME:EDT
DTSTART:20250309T070000
END:DAYLIGHT
BEGIN:STANDARD
TZOFFSETFROM:-0400
TZOFFSETTO:-0500
TZNAME:EST
DTSTART:20251102T060000
END:STANDARD
BEGIN:DAYLIGHT
TZOFFSETFROM:-0500
TZOFFSETTO:-0400
TZNAME:EDT
DTSTART:20260308T070000
END:DAYLIGHT
BEGIN:STANDARD
TZOFFSETFROM:-0400
TZOFFSETTO:-0500
TZNAME:EST
DTSTART:20261101T060000
END:STANDARD
BEGIN:DAYLIGHT
TZOFFSETFROM:-0500
TZOFFSETTO:-0400
TZNAME:EDT
DTSTART:20270314T070000
END:DAYLIGHT
BEGIN:STANDARD
TZOFFSETFROM:-0400
TZOFFSETTO:-0500
TZNAME:EST
DTSTART:20271107T060000
END:STANDARD
END:VTIMEZONE
BEGIN:VEVENT
DTSTART;TZID=America/New_York:20260515T080000
DTEND;TZID=America/New_York:20260517T170000
DTSTAMP:20260424T181304
CREATED:20260111T144058Z
LAST-MODIFIED:20260412T111939Z
UID:10000008-1778832000-1779037200@nopi.com
SUMMARY:NOPI NDRA Drag Race at South Georgia Motorsports Park 2026
DESCRIPTION:NOPI Regional Drag Race Event at South Georgia Motorsports Park (SGMP)\nMay 15–17\, 2026 • South Georgia Motorsports Park \n \n\nTickets\nPurchase tickets online through Gearhead Events: \n\nBuy Tickets on Gearhead Events\n \nTip: Use the quick links below to jump to schedule\, admission\, car show\, and drag racing info. \n\n \nQuick Links:\nHighlights\nSchedule\nAdmission\nCar Show\nDrag Racing \n\n \nGet ready for the NOPI Nationals Super Show at South Georgia Motorsports Park (SGMP)—a full weekend of car culture featuring\ndrag racing\, drifting\, and a car show with cash prizes and trophies. \n \nEvent Highlights\n\nDrag Racing – High-speed action with big payouts across multiple classes.\nCar Show – Compete for trophies and cash prizes.\nDrift Car Event – Elite drivers battling for cash prizes.\n\n \n\nReady to go? Tickets are sold on Gearhead Events. \n\nBuy Tickets\n \n\n\n \nEvent Schedule\nFriday\n\nGates Open: 12 noon\nTech Inspection: 12 noon – 9:00pm\nDrifting: 1:00pm – 9:00pm\nTesting: 5:00pm – 10:00pm\nGates Close: 10:00pm\n\nSaturday\n\nGates Open (Exhibitors/Contestants): 9:00am\nCar Show Registration: All Day\nDrifting Tech: 9:00am\nDrifting Drivers Meeting: 9:45am\nCar Show Judging: 1:00pm – 5:00pm\nDrifting: 11:00am – 8:00pm\nDrag Racing Qualifying (All Classes):\n\nRound 1: 11:00am\nRound 2: 3:00pm\nRound 3: 7:00pm\n\n\n\nSunday\n\nGates Open: 9:00am\nDrifting: 10:00am – 6:00pm\nCar Show Registration: 10:00am – 4:00pm\nDrag Racing Eliminations: 10:00am\nCar Show Judging: 12 noon – 4:00pm\nCar Show Awards: 5:00pm\n\n\n \nGeneral Admission\n\n$35 – 1-Day Pass\n$60 – 2-Day Pass\nIncludes paddock area access\nChildren 12 and under enter free!\n\n\nBuy General Admission Tickets\n \n\n \nCar Show\nClick Here\nfor details on car show classes\, winners\, and more. \nShow Car Entry – $80 Preregister Online\n\nIncludes general admission for Saturday and Sunday\nAccess to paddock area\nCompete for cash prizes and trophies\n\n\n \nDrag Racing\nClick Here\nfor drag racing class rules and restrictions. \n**Full purse payouts contingent on full field for each class** \n \n\nDrag Racing Entry Fees & Payouts (Quick View)\n\nBracket: $100 entry (includes tech card) • $2\,000 winner\nAll Steel All Glass: $200 entry (includes tech card) • $5\,000 winner\nIndex 9.5 / 10.5 / 11.5: $200 entry (includes tech card) • $2\,500 winner (per class)\nCompetitions (XFWD / XAWD vs XRWD / XWorld): $300 entry (includes tech card)\n\n\n \nBracket Drag Racing\n\nEntry: $100 (includes tech card)\nRestrictions: None\nPayout: $2\,000 Winner\n\n \nAll Steel All Glass\n\nEntry: $200 (includes tech card)\nPayout: $5\,000 Winner\n\n \nIndex Drag Racing (9.5 / 10.5 / 11.5)\n\nEntry: $200 (includes tech card)\nPayout (per class):\n\n$2\,500 – Winner\n$500 – Runner-up\n$200 – Semifinalists\n\n\n\n \nDrag Race Competitions\n\nEntry: $300 (includes tech card)\n\nXFWD\n\n$10\,000 – Winner\n$3\,000 – Runner-up\n\nXAWD vs XRWD\n\n$5\,000 – Winner\n$1\,500 – Runner-up\n\nXWorld\n\n$5\,000 – Winner\n$1\,500 – Runner-up\n\n\n \nDon’t Miss It\nDon’t miss out on this legendary automotive event. Whether you’re a racer\, a show car competitor\, or a fan of high-speed action\,\nthe NOPI Nationals Super Show at SGMP is a weekend you won’t want to miss. \n\nBuy Tickets\nTickets are available online via Gearhead Events: \n\nBuy Tickets on Gearhead Events\n \n\nFollow us for updates and ticket information!
URL:https://nopi.com/event/nopi-drag-race-at-south-georgia-motorsports-park-2026/
LOCATION:South Georgia Motorsports Park\, 2521 US-41\, Adel\, Georgia\, 31620
CATEGORIES:car show,drag race,drift race
ATTACH;FMTTYPE=image/jpeg:https://nopi.com/wp-content/uploads/2026/02/2-GEORGIA-V4.jpg
ORGANIZER;CN="Sam Mahdavi":MAILTO:info@nopi.com
END:VEVENT
END:VCALENDAR